BEGIN:VCALENDAR
VERSION:2.0
PRODID:-//Nottingham Schools Trust - ECPv4.6.26//NONSGML v1.0//EN
CALSCALE:GREGORIAN
METHOD:PUBLISH
X-WR-CALNAME:Nottingham Schools Trust
X-ORIGINAL-URL:http://www.nottinghamschoolstrust.org.uk
X-WR-CALDESC:Events for Nottingham Schools Trust
BEGIN:VEVENT
DTSTART;TZID=Europe/London:20190604T133000
DTEND;TZID=Europe/London:20190604T153000
DTSTAMP:20260421T102931
CREATED:20190426T094352Z
LAST-MODIFIED:20190426T094352Z
UID:2527-1559655000-1559662200@www.nottinghamschoolstrust.org.uk
SUMMARY:Inclusion Network
DESCRIPTION:This session will be in the format of a teachmeet\, with a mixture of agencies and practitioners giving short briefings about their work\, with time afterwards for discussion and questions.  Anna Stapleton will be leading this session. \n
URL:http://www.nottinghamschoolstrust.org.uk/event/inclusion-network/
LOCATION:Glade Hill Primary School\, Chippenham Road\, Bestwood Park\, Nottingham\, NG5 5TA
END:VEVENT
END:VCALENDAR