BEGIN:VCALENDAR
VERSION:2.0
PRODID:-//Nottingham Schools Trust - ECPv4.6.26//NONSGML v1.0//EN
CALSCALE:GREGORIAN
METHOD:PUBLISH
X-WR-CALNAME:Nottingham Schools Trust
X-ORIGINAL-URL:http://www.nottinghamschoolstrust.org.uk
X-WR-CALDESC:Events for Nottingham Schools Trust
BEGIN:VEVENT
DTSTART;TZID=Europe/London:20190909T133000
DTEND;TZID=Europe/London:20190909T153000
DTSTAMP:20260423T030225
CREATED:20190802T144213Z
LAST-MODIFIED:20190802T144213Z
UID:3165-1568035800-1568043000@www.nottinghamschoolstrust.org.uk
SUMMARY:Induction Programme for New and Recently Appointed Headteachers
DESCRIPTION:Sue Hoyland and Kate Clifford will be running this group again during 2019/20. \nThis first meeting will cover: \n\nWho’s who session\, with welcome from Director of Education John Dexter\, and Director of Education Services\, Nick Lee.\nNST context and offer\, with Pat Fielding.\n\nTo book your place\, please email Emily.Humphreys@nottinghamschoolstrust.org.uk \n
URL:http://www.nottinghamschoolstrust.org.uk/event/induction-programme-for-new-and-recently-appointed-headteachers/
LOCATION:NST Office
END:VEVENT
END:VCALENDAR