BEGIN:VCALENDAR
VERSION:2.0
PRODID:-//Nottingham Schools Trust - ECPv4.6.26//NONSGML v1.0//EN
CALSCALE:GREGORIAN
METHOD:PUBLISH
X-WR-CALNAME:Nottingham Schools Trust
X-ORIGINAL-URL:http://www.nottinghamschoolstrust.org.uk
X-WR-CALDESC:Events for Nottingham Schools Trust
BEGIN:VEVENT
DTSTART;TZID=Europe/London:20250506T090000
DTEND;TZID=Europe/London:20250506T120000
DTSTAMP:20260422T151913
CREATED:20240819T104347Z
LAST-MODIFIED:20240819T104347Z
UID:10168-1746522000-1746532800@www.nottinghamschoolstrust.org.uk
SUMMARY:Introduction to Safeguarding and Child Protection
DESCRIPTION:To book: Introduction to Safeguarding and Child Protection – Events – Universe \n
URL:http://www.nottinghamschoolstrust.org.uk/event/introduction-to-safeguarding-and-child-protection-7/
LOCATION:Castle Cavendish
END:VEVENT
END:VCALENDAR