BEGIN:VCALENDAR
VERSION:2.0
PRODID:-//Nottingham Schools Trust - ECPv4.6.26//NONSGML v1.0//EN
CALSCALE:GREGORIAN
METHOD:PUBLISH
X-WR-CALNAME:Nottingham Schools Trust
X-ORIGINAL-URL:http://www.nottinghamschoolstrust.org.uk
X-WR-CALDESC:Events for Nottingham Schools Trust
BEGIN:VEVENT
DTSTART;TZID=Europe/London:20190326T083000
DTEND;TZID=Europe/London:20190326T130000
DTSTAMP:20260420T175527
CREATED:20190121T151915Z
LAST-MODIFIED:20190308T131641Z
UID:2268-1553589000-1553605200@www.nottinghamschoolstrust.org.uk
SUMMARY:Introduction to Safeguarding - Full Training Session
DESCRIPTION:This training will be delivered by Lou Rhodes\, and is aimed at any school staff who have not previously completed ‘Introduction to Safeguarding’ training (eg NQTs).  To book a place please email Emily.Humphreys@nottinghamschoolstrust.org.uk. \n  \n
URL:http://www.nottinghamschoolstrust.org.uk/event/introduction-to-safeguarding-full-training-session/
LOCATION:Mellers Primary School
END:VEVENT
END:VCALENDAR