BEGIN:VCALENDAR
VERSION:2.0
PRODID:-//Nottingham Schools Trust - ECPv4.6.26//NONSGML v1.0//EN
CALSCALE:GREGORIAN
METHOD:PUBLISH
X-WR-CALNAME:Nottingham Schools Trust
X-ORIGINAL-URL:http://www.nottinghamschoolstrust.org.uk
X-WR-CALDESC:Events for Nottingham Schools Trust
BEGIN:VEVENT
DTSTART;TZID=Europe/London:20190305T130000
DTEND;TZID=Europe/London:20190305T160000
DTSTAMP:20260421T214458
CREATED:20190121T151645Z
LAST-MODIFIED:20190121T151645Z
UID:2266-1551790800-1551801600@www.nottinghamschoolstrust.org.uk
SUMMARY:Introduction to Safeguarding - Update Training Session
DESCRIPTION:This training will be delivered by Jo Rowlett\, and is for staff who have previously completed the ‘Introduction to Safeguarding’ training\, but who are due a refresher.  To book a place\, please email Emily.Humphreys@nottinghamschoolstrust.org.uk. \n
URL:http://www.nottinghamschoolstrust.org.uk/event/introduction-to-safeguarding-update-training-session/
LOCATION:Southglade Primary School\, Beckhampton Road\, Nottingham\, NG5 5NE
END:VEVENT
END:VCALENDAR