BEGIN:VCALENDAR
VERSION:2.0
PRODID:-//Nottingham Schools Trust - ECPv4.6.26//NONSGML v1.0//EN
CALSCALE:GREGORIAN
METHOD:PUBLISH
X-WR-CALNAME:Nottingham Schools Trust
X-ORIGINAL-URL:http://www.nottinghamschoolstrust.org.uk
X-WR-CALDESC:Events for Nottingham Schools Trust
BEGIN:VEVENT
DTSTART;TZID=Europe/London:20220324T131500
DTEND;TZID=Europe/London:20220324T160000
DTSTAMP:20260424T215554
CREATED:20210916T113256Z
LAST-MODIFIED:20210916T113256Z
UID:7013-1648127700-1648137600@www.nottinghamschoolstrust.org.uk
SUMMARY:KS1 Moderation Workshop
DESCRIPTION:For further information or to book: KS1 Moderation Workshop Tickets\, Thu 24 Mar 2022 at 13:15 | Eventbrite \n
URL:http://www.nottinghamschoolstrust.org.uk/event/ks1-moderation-workshop-2/
LOCATION:Nottingham Nursery School & Training Centre\, Denman Street West\, Radford\, Nottingham\, NG7 3AB
END:VEVENT
END:VCALENDAR