BEGIN:VCALENDAR
VERSION:2.0
PRODID:-//Nottingham Schools Trust - ECPv4.6.26//NONSGML v1.0//EN
CALSCALE:GREGORIAN
METHOD:PUBLISH
X-WR-CALNAME:Nottingham Schools Trust
X-ORIGINAL-URL:http://www.nottinghamschoolstrust.org.uk
X-WR-CALDESC:Events for Nottingham Schools Trust
BEGIN:VEVENT
DTSTART;TZID=Europe/London:20200131T130000
DTEND;TZID=Europe/London:20200131T160000
DTSTAMP:20260425T033110
CREATED:20190708T130905Z
LAST-MODIFIED:20190708T130905Z
UID:2836-1580475600-1580486400@www.nottinghamschoolstrust.org.uk
SUMMARY:KS2 Moderation Event
DESCRIPTION:
URL:http://www.nottinghamschoolstrust.org.uk/event/ks2-moderation-event/
LOCATION:DoubleTree Hilton – Nottingham Gateway\, Nuthall Road\, Nottingham\, NG8 6AZ
END:VEVENT
END:VCALENDAR