BEGIN:VCALENDAR
VERSION:2.0
PRODID:-//Nottingham Schools Trust - ECPv4.6.26//NONSGML v1.0//EN
CALSCALE:GREGORIAN
METHOD:PUBLISH
X-WR-CALNAME:Nottingham Schools Trust
X-ORIGINAL-URL:http://www.nottinghamschoolstrust.org.uk
X-WR-CALDESC:Events for Nottingham Schools Trust
BEGIN:VEVENT
DTSTART;TZID=Europe/London:20240325T131500
DTEND;TZID=Europe/London:20240325T160000
DTSTAMP:20260421T211440
CREATED:20230721T113547Z
LAST-MODIFIED:20240122T121123Z
UID:9284-1711372500-1711382400@www.nottinghamschoolstrust.org.uk
SUMMARY:Year 6 Moderation Workshop
DESCRIPTION:To book a place please visit: Nottm City Moderation Workshop Y6 | Flying High (flyinghighpartnership.co.uk) \n
URL:http://www.nottinghamschoolstrust.org.uk/event/ks2-moderation-workshop/
END:VEVENT
END:VCALENDAR