BEGIN:VCALENDAR
VERSION:2.0
PRODID:-//Nottingham Schools Trust - ECPv4.6.26//NONSGML v1.0//EN
CALSCALE:GREGORIAN
METHOD:PUBLISH
X-WR-CALNAME:Nottingham Schools Trust
X-ORIGINAL-URL:http://www.nottinghamschoolstrust.org.uk
X-WR-CALDESC:Events for Nottingham Schools Trust
BEGIN:VEVENT
DTSTART;TZID=Europe/London:20220325T131500
DTEND;TZID=Europe/London:20220325T160000
DTSTAMP:20260425T010623
CREATED:20210916T113427Z
LAST-MODIFIED:20210916T113441Z
UID:7015-1648214100-1648224000@www.nottinghamschoolstrust.org.uk
SUMMARY:KS2 Writing Moderation Workshop
DESCRIPTION:For further information or to book: KS2 Writing Moderation Workshop Tickets\, Fri 25 Mar 2022 at 13:15 | Eventbrite \n
URL:http://www.nottinghamschoolstrust.org.uk/event/ks2-writing-moderation-workshop-2/
LOCATION:Nottingham Nursery School & Training Centre\, Denman Street West\, Radford\, Nottingham\, NG7 3AB
END:VEVENT
END:VCALENDAR