BEGIN:VCALENDAR
VERSION:2.0
PRODID:-//Nottingham Schools Trust - ECPv4.6.26//NONSGML v1.0//EN
CALSCALE:GREGORIAN
METHOD:PUBLISH
X-WR-CALNAME:Nottingham Schools Trust
X-ORIGINAL-URL:http://www.nottinghamschoolstrust.org.uk
X-WR-CALDESC:Events for Nottingham Schools Trust
BEGIN:VEVENT
DTSTART;TZID=Europe/London:20200626T093000
DTEND;TZID=Europe/London:20200626T123000
DTSTAMP:20260424T204432
CREATED:20200624T142407Z
LAST-MODIFIED:20200624T142407Z
UID:4518-1593163800-1593174600@www.nottinghamschoolstrust.org.uk
SUMMARY:Leading Reading for maximum engagement in the recovery phase
DESCRIPTION:To book: https://www.eventbrite.com/e/leading-reading-for-maximum-engagement-in-the-recovery-phase-tickets-109138965584 \n
URL:http://www.nottinghamschoolstrust.org.uk/event/leading-reading-for-maximum-engagement-in-the-recovery-phase/
END:VEVENT
END:VCALENDAR