BEGIN:VCALENDAR
VERSION:2.0
PRODID:-//Nottingham Schools Trust - ECPv4.6.26//NONSGML v1.0//EN
CALSCALE:GREGORIAN
METHOD:PUBLISH
X-WR-CALNAME:Nottingham Schools Trust
X-ORIGINAL-URL:http://www.nottinghamschoolstrust.org.uk
X-WR-CALDESC:Events for Nottingham Schools Trust
BEGIN:VEVENT
DTSTART;TZID=Europe/London:20200929T154500
DTEND;TZID=Europe/London:20200929T174500
DTSTAMP:20260422T210639
CREATED:20200901T100942Z
LAST-MODIFIED:20200901T100942Z
UID:4857-1601394300-1601401500@www.nottinghamschoolstrust.org.uk
SUMMARY:Letters and Sounds Part 3: Practice and Apply - ensuring progress for all phases 2 - 6
DESCRIPTION:For further details or to book\, visit our Eventbrite page: https://www.eventbrite.com/o/nottingham-schools-trust-19990165449 \n
URL:http://www.nottinghamschoolstrust.org.uk/event/letters-and-sounds-part-3-practice-and-apply-ensuring-progress-for-all-phases-2-6-2/
END:VEVENT
END:VCALENDAR