BEGIN:VCALENDAR
VERSION:2.0
PRODID:-//Nottingham Schools Trust - ECPv4.6.26//NONSGML v1.0//EN
CALSCALE:GREGORIAN
METHOD:PUBLISH
X-WR-CALNAME:Nottingham Schools Trust
X-ORIGINAL-URL:http://www.nottinghamschoolstrust.org.uk
X-WR-CALDESC:Events for Nottingham Schools Trust
BEGIN:VEVENT
DTSTART;TZID=Europe/London:20200610T110000
DTEND;TZID=Europe/London:20200610T123000
DTSTAMP:20260424T220819
CREATED:20200702T090403Z
LAST-MODIFIED:20200702T090403Z
UID:4682-1591786800-1591792200@www.nottinghamschoolstrust.org.uk
SUMMARY:Letters and Sounds Phonics Interventions Training for Teachers and TAs
DESCRIPTION:
URL:http://www.nottinghamschoolstrust.org.uk/event/letters-and-sounds-phonics-interventions-training-for-teachers-and-tas-4/
END:VEVENT
END:VCALENDAR