BEGIN:VCALENDAR
VERSION:2.0
PRODID:-//Nottingham Schools Trust - ECPv4.6.26//NONSGML v1.0//EN
CALSCALE:GREGORIAN
METHOD:PUBLISH
X-WR-CALNAME:Nottingham Schools Trust
X-ORIGINAL-URL:http://www.nottinghamschoolstrust.org.uk
X-WR-CALDESC:Events for Nottingham Schools Trust
BEGIN:VEVENT
DTSTART;TZID=Europe/London:20200611T130000
DTEND;TZID=Europe/London:20200611T141500
DTSTAMP:20260424T232338
CREATED:20200702T090632Z
LAST-MODIFIED:20200702T090632Z
UID:4688-1591880400-1591884900@www.nottinghamschoolstrust.org.uk
SUMMARY:Letters and Sounds Phonics Phases 2 & 3 for Reception Teachers and TAs - Session 1
DESCRIPTION:
URL:http://www.nottinghamschoolstrust.org.uk/event/letters-and-sounds-phonics-phases-2-3-for-reception-teachers-and-tas-session-1-4/
END:VEVENT
END:VCALENDAR