BEGIN:VCALENDAR
VERSION:2.0
PRODID:-//Nottingham Schools Trust - ECPv4.6.26//NONSGML v1.0//EN
CALSCALE:GREGORIAN
METHOD:PUBLISH
X-WR-CALNAME:Nottingham Schools Trust
X-ORIGINAL-URL:http://www.nottinghamschoolstrust.org.uk
X-WR-CALDESC:Events for Nottingham Schools Trust
BEGIN:VEVENT
DTSTART;TZID=Europe/London:20200612T093000
DTEND;TZID=Europe/London:20200612T104500
DTSTAMP:20260424T204547
CREATED:20200702T090931Z
LAST-MODIFIED:20200702T090931Z
UID:4696-1591954200-1591958700@www.nottinghamschoolstrust.org.uk
SUMMARY:Letters and Sounds Phonics Phases 5 & 6 for Year 1 & 2 Teachers and TAs - Session 1
DESCRIPTION:
URL:http://www.nottinghamschoolstrust.org.uk/event/letters-and-sounds-phonics-phases-5-6-for-year-1-2-teachers-and-tas-session-1-2/
END:VEVENT
END:VCALENDAR