BEGIN:VCALENDAR
VERSION:2.0
PRODID:-//Nottingham Schools Trust - ECPv4.6.26//NONSGML v1.0//EN
CALSCALE:GREGORIAN
METHOD:PUBLISH
X-WR-CALNAME:Nottingham Schools Trust
X-ORIGINAL-URL:http://www.nottinghamschoolstrust.org.uk
X-WR-CALDESC:Events for Nottingham Schools Trust
BEGIN:VEVENT
DTSTART;TZID=Europe/London:20200709T130000
DTEND;TZID=Europe/London:20200709T160000
DTSTAMP:20260424T192827
CREATED:20190708T131946Z
LAST-MODIFIED:20190708T131946Z
UID:2846-1594299600-1594310400@www.nottinghamschoolstrust.org.uk
SUMMARY:Lower KS2 Moderation Feedback Meeting
DESCRIPTION:This session will take place in room 2.11\, Loxley House. \n
URL:http://www.nottinghamschoolstrust.org.uk/event/lower-ks2-moderation-feedback-meeting/
LOCATION:Loxley House
END:VEVENT
END:VCALENDAR