BEGIN:VCALENDAR
VERSION:2.0
PRODID:-//Nottingham Schools Trust - ECPv4.6.26//NONSGML v1.0//EN
CALSCALE:GREGORIAN
METHOD:PUBLISH
X-WR-CALNAME:Nottingham Schools Trust
X-ORIGINAL-URL:http://www.nottinghamschoolstrust.org.uk
X-WR-CALDESC:Events for Nottingham Schools Trust
BEGIN:VEVENT
DTSTART;TZID=Europe/London:20201204T133000
DTEND;TZID=Europe/London:20201204T150000
DTSTAMP:20260419T155040
CREATED:20200914T090055Z
LAST-MODIFIED:20200914T090055Z
UID:5001-1607088600-1607094000@www.nottinghamschoolstrust.org.uk
SUMMARY:Mathematics Network
DESCRIPTION:For more information: https://www.eventbrite.co.uk/e/mathematics-december-network-tickets-115193992332 \n
URL:http://www.nottinghamschoolstrust.org.uk/event/mathematics-network-2/
END:VEVENT
END:VCALENDAR