BEGIN:VCALENDAR
VERSION:2.0
PRODID:-//Nottingham Schools Trust - ECPv4.6.26//NONSGML v1.0//EN
CALSCALE:GREGORIAN
METHOD:PUBLISH
X-WR-CALNAME:Nottingham Schools Trust
X-ORIGINAL-URL:http://www.nottinghamschoolstrust.org.uk
X-WR-CALDESC:Events for Nottingham Schools Trust
BEGIN:VEVENT
DTSTART;TZID=Europe/London:20200312T131500
DTEND;TZID=Europe/London:20200312T154500
DTSTAMP:20260425T021318
CREATED:20190823T141656Z
LAST-MODIFIED:20190823T141656Z
UID:3248-1584018900-1584027900@www.nottinghamschoolstrust.org.uk
SUMMARY:Mathematics Spring Network
DESCRIPTION:To book your place please visit the NCC Teaching and Learning team Eventbrite page here: \nhttps://www.eventbrite.co.uk/e/mathematics-spring-network-201920-tickets-62906294420 \n
URL:http://www.nottinghamschoolstrust.org.uk/event/mathematics-spring-network/
LOCATION:DoubleTree Hilton – Nottingham Gateway\, Nuthall Road\, Nottingham\, NG8 6AZ
END:VEVENT
END:VCALENDAR