BEGIN:VCALENDAR
VERSION:2.0
PRODID:-//Nottingham Schools Trust - ECPv4.6.26//NONSGML v1.0//EN
CALSCALE:GREGORIAN
METHOD:PUBLISH
X-WR-CALNAME:Nottingham Schools Trust
X-ORIGINAL-URL:http://www.nottinghamschoolstrust.org.uk
X-WR-CALDESC:Events for Nottingham Schools Trust
BEGIN:VEVENT
DTSTART;TZID=Europe/London:20251002T131500
DTEND;TZID=Europe/London:20251002T154500
DTSTAMP:20260422T113822
CREATED:20250701T134839Z
LAST-MODIFIED:20250701T134839Z
UID:10897-1759410900-1759419900@www.nottinghamschoolstrust.org.uk
SUMMARY:Maths Network Meeting
DESCRIPTION:Booking link from Jane Gill to follow. \n
URL:http://www.nottinghamschoolstrust.org.uk/event/maths-network-meeting-12/
END:VEVENT
END:VCALENDAR