BEGIN:VCALENDAR
VERSION:2.0
PRODID:-//Nottingham Schools Trust - ECPv4.6.26//NONSGML v1.0//EN
CALSCALE:GREGORIAN
METHOD:PUBLISH
X-WR-CALNAME:Nottingham Schools Trust
X-ORIGINAL-URL:http://www.nottinghamschoolstrust.org.uk
X-WR-CALDESC:Events for Nottingham Schools Trust
BEGIN:VEVENT
DTSTART;TZID=Europe/London:20191014T083000
DTEND;TZID=Europe/London:20191014T163000
DTSTAMP:20260424T123856
CREATED:20190802T135119Z
LAST-MODIFIED:20190802T135119Z
UID:3143-1571041800-1571070600@www.nottinghamschoolstrust.org.uk
SUMMARY:Mental Health First Aid - one day course
DESCRIPTION:MHFA 1-day course flyer 2019-20 \nMHFA 1-day course application form 2019-20 \n
URL:http://www.nottinghamschoolstrust.org.uk/event/mental-health-first-aid-one-day-course/
LOCATION:Loxley House
END:VEVENT
END:VCALENDAR