BEGIN:VCALENDAR
VERSION:2.0
PRODID:-//Nottingham Schools Trust - ECPv4.6.26//NONSGML v1.0//EN
CALSCALE:GREGORIAN
METHOD:PUBLISH
X-WR-CALNAME:Nottingham Schools Trust
X-ORIGINAL-URL:http://www.nottinghamschoolstrust.org.uk
X-WR-CALDESC:Events for Nottingham Schools Trust
BEGIN:VEVENT
DTSTART;TZID=Europe/London:20250520T154500
DTEND;TZID=Europe/London:20250520T171500
DTSTAMP:20260423T010017
CREATED:20240815T145959Z
LAST-MODIFIED:20241204T135050Z
UID:10059-1747755900-1747761300@www.nottinghamschoolstrust.org.uk
SUMMARY:Languages Network
DESCRIPTION:Booking link: https://www.universe.com/events/languages-network-meeting-tickets-5DNXMT \n
URL:http://www.nottinghamschoolstrust.org.uk/event/mfl-network-8/
LOCATION:Nottingham Nursery School & Training Centre\, Denman Street West\, Radford\, Nottingham\, NG7 3AB
END:VEVENT
END:VCALENDAR