BEGIN:VCALENDAR
VERSION:2.0
PRODID:-//Nottingham Schools Trust - ECPv4.6.26//NONSGML v1.0//EN
CALSCALE:GREGORIAN
METHOD:PUBLISH
X-WR-CALNAME:Nottingham Schools Trust
X-ORIGINAL-URL:http://www.nottinghamschoolstrust.org.uk
X-WR-CALDESC:Events for Nottingham Schools Trust
BEGIN:VEVENT
DTSTART;TZID=Europe/London:20201216T153000
DTEND;TZID=Europe/London:20201216T173000
DTSTAMP:20260420T061719
CREATED:20201120T125247Z
LAST-MODIFIED:20201120T125247Z
UID:5573-1608132600-1608139800@www.nottinghamschoolstrust.org.uk
SUMMARY:Microsoft 365 TEAMS Core Training Pathway - Session 5
DESCRIPTION:
URL:http://www.nottinghamschoolstrust.org.uk/event/microsoft-365-teams-core-training-pathway-session-5/
END:VEVENT
END:VCALENDAR