BEGIN:VCALENDAR
VERSION:2.0
PRODID:-//Nottingham Schools Trust - ECPv4.6.26//NONSGML v1.0//EN
CALSCALE:GREGORIAN
METHOD:PUBLISH
X-WR-CALNAME:Nottingham Schools Trust
X-ORIGINAL-URL:http://www.nottinghamschoolstrust.org.uk
X-WR-CALDESC:Events for Nottingham Schools Trust
BEGIN:VEVENT
DTSTART;TZID=Europe/London:20240315T130000
DTEND;TZID=Europe/London:20240315T153000
DTSTAMP:20260421T091554
CREATED:20230718T134441Z
LAST-MODIFIED:20230718T134441Z
UID:9258-1710507600-1710516600@www.nottinghamschoolstrust.org.uk
SUMMARY:Middle and Senior Leadership CPD Programme Session 4 - Human Resources
DESCRIPTION:For more information / to book: https://www.eventbrite.com/e/human-resources-tickets-679396070937?aff=oddtdtcreator \n
URL:http://www.nottinghamschoolstrust.org.uk/event/middle-and-senior-leadership-cpd-programme-session-4-human-resources/
END:VEVENT
END:VCALENDAR