BEGIN:VCALENDAR
VERSION:2.0
PRODID:-//Nottingham Schools Trust - ECPv4.6.26//NONSGML v1.0//EN
CALSCALE:GREGORIAN
METHOD:PUBLISH
X-WR-CALNAME:Nottingham Schools Trust
X-ORIGINAL-URL:http://www.nottinghamschoolstrust.org.uk
X-WR-CALDESC:Events for Nottingham Schools Trust
BEGIN:VEVENT
DTSTART;TZID=Europe/London:20240510T130000
DTEND;TZID=Europe/London:20240510T153000
DTSTAMP:20260421T154201
CREATED:20230718T134606Z
LAST-MODIFIED:20230718T134606Z
UID:9260-1715346000-1715355000@www.nottinghamschoolstrust.org.uk
SUMMARY:Middle and Senior Leadership CPD Programme Session 5 - Governance
DESCRIPTION:For further details / to book: https://www.eventbrite.com/e/governance-tickets-679398207327?aff=oddtdtcreator \n
URL:http://www.nottinghamschoolstrust.org.uk/event/middle-and-senior-leadership-cpd-programme-session-5-governance/
END:VEVENT
END:VCALENDAR