BEGIN:VCALENDAR
VERSION:2.0
PRODID:-//Nottingham Schools Trust - ECPv4.6.26//NONSGML v1.0//EN
CALSCALE:GREGORIAN
METHOD:PUBLISH
X-WR-CALNAME:Nottingham Schools Trust
X-ORIGINAL-URL:http://www.nottinghamschoolstrust.org.uk
X-WR-CALDESC:Events for Nottingham Schools Trust
BEGIN:VEVENT
DTSTART;TZID=Europe/London:20191014T083000
DTEND;TZID=Europe/London:20191014T143000
DTSTAMP:20260424T113424
CREATED:20190708T124738Z
LAST-MODIFIED:20190902T140740Z
UID:2824-1571041800-1571063400@www.nottinghamschoolstrust.org.uk
SUMMARY:Middle Leaders Network
DESCRIPTION:For further information or to book your place please visit our Eventbrite page: \nhttps://www.eventbrite.com/e/middle-leaders-network-tickets-70773203557 \n  \n
URL:http://www.nottinghamschoolstrust.org.uk/event/middle-leaders-network/
LOCATION:Nottingham Nursery School & Training Centre\, Denman Street West\, Radford\, Nottingham\, NG7 3AB
END:VEVENT
END:VCALENDAR