BEGIN:VCALENDAR
VERSION:2.0
PRODID:-//Nottingham Schools Trust - ECPv4.6.26//NONSGML v1.0//EN
CALSCALE:GREGORIAN
METHOD:PUBLISH
X-WR-CALNAME:Nottingham Schools Trust
X-ORIGINAL-URL:http://www.nottinghamschoolstrust.org.uk
X-WR-CALDESC:Events for Nottingham Schools Trust
BEGIN:VEVENT
DTSTART;TZID=Europe/London:20240502T131500
DTEND;TZID=Europe/London:20240502T160000
DTSTAMP:20260421T135009
CREATED:20230721T113920Z
LAST-MODIFIED:20240122T121659Z
UID:9292-1714655700-1714665600@www.nottinghamschoolstrust.org.uk
SUMMARY:Year 1 Moderation Workshop
DESCRIPTION:To book a place please visit: Nottm City Moderation Workshop Y1 | Flying High (flyinghighpartnership.co.uk) \n
URL:http://www.nottinghamschoolstrust.org.uk/event/moderation-workshop-2/
END:VEVENT
END:VCALENDAR