BEGIN:VCALENDAR
VERSION:2.0
PRODID:-//Nottingham Schools Trust - ECPv4.6.26//NONSGML v1.0//EN
CALSCALE:GREGORIAN
METHOD:PUBLISH
X-WR-CALNAME:Nottingham Schools Trust
X-ORIGINAL-URL:http://www.nottinghamschoolstrust.org.uk
X-WR-CALDESC:Events for Nottingham Schools Trust
BEGIN:VEVENT
DTSTART;TZID=Europe/London:20200228T093000
DTEND;TZID=Europe/London:20200228T153000
DTSTAMP:20260425T033846
CREATED:20190827T131528Z
LAST-MODIFIED:20191128T103839Z
UID:3325-1582882200-1582903800@www.nottinghamschoolstrust.org.uk
SUMMARY:Music Education Hubs East Midlands Conference 2020
DESCRIPTION:Staff from NST schools can book a place for free at this conference\, by visiting the conference web page: https://mehem.org/mehem-conference-2020/mehem-conference-2020.aspx \nImmediately after the conference ends at 3.30pm \, Ian Burton will hold a special extra session for members of the Music Network\, which will include a ‘deep dive’ surgery\, and give you the chance to catch up\, and bring any problems/issues to discuss with the group.   \n  \n
URL:http://www.nottinghamschoolstrust.org.uk/event/music-network-meeting-2/
END:VEVENT
END:VCALENDAR