BEGIN:VCALENDAR
VERSION:2.0
PRODID:-//Nottingham Schools Trust - ECPv4.6.26//NONSGML v1.0//EN
CALSCALE:GREGORIAN
METHOD:PUBLISH
X-WR-CALNAME:Nottingham Schools Trust
X-ORIGINAL-URL:http://www.nottinghamschoolstrust.org.uk
X-WR-CALDESC:Events for Nottingham Schools Trust
BEGIN:VEVENT
DTSTART;TZID=Europe/London:20191105T140000
DTEND;TZID=Europe/London:20191105T163000
DTSTAMP:20260424T222344
CREATED:20190827T112126Z
LAST-MODIFIED:20190902T141902Z
UID:3284-1572962400-1572971400@www.nottinghamschoolstrust.org.uk
SUMMARY:Music Network Meeting
DESCRIPTION:For further details/to book\, please visit our Eventbrite page: \nhttps://www.eventbrite.com/e/music-network-meeting-tickets-70764633925 \n
URL:http://www.nottinghamschoolstrust.org.uk/event/music-network-meeting/
END:VEVENT
END:VCALENDAR