BEGIN:VCALENDAR
VERSION:2.0
PRODID:-//Nottingham Schools Trust - ECPv4.6.26//NONSGML v1.0//EN
CALSCALE:GREGORIAN
METHOD:PUBLISH
X-WR-CALNAME:Nottingham Schools Trust
X-ORIGINAL-URL:http://www.nottinghamschoolstrust.org.uk
X-WR-CALDESC:Events for Nottingham Schools Trust
BEGIN:VEVENT
DTSTART;TZID=Europe/London:20190321T133000
DTEND;TZID=Europe/London:20190321T150000
DTSTAMP:20260420T194024
CREATED:20190211T142640Z
LAST-MODIFIED:20190211T143252Z
UID:2358-1553175000-1553180400@www.nottinghamschoolstrust.org.uk
SUMMARY:MyConcern Safeguarding Update Session
DESCRIPTION:This is an update session for current MyConcern users\, or those schools who are interested in finding out more. \nTo book a place please email Emily Humphreys. \n  \n
URL:http://www.nottinghamschoolstrust.org.uk/event/myconcern-safeguarding-update-session/
LOCATION:NST Office
END:VEVENT
END:VCALENDAR