BEGIN:VCALENDAR
VERSION:2.0
PRODID:-//Nottingham Schools Trust - ECPv4.6.26//NONSGML v1.0//EN
CALSCALE:GREGORIAN
METHOD:PUBLISH
X-WR-CALNAME:Nottingham Schools Trust
X-ORIGINAL-URL:http://www.nottinghamschoolstrust.org.uk
X-WR-CALDESC:Events for Nottingham Schools Trust
BEGIN:VEVENT
DTSTART;TZID=Europe/London:20190308T130000
DTEND;TZID=Europe/London:20190308T150000
DTSTAMP:20260421T154357
CREATED:20190211T160436Z
LAST-MODIFIED:20190211T160436Z
UID:2362-1552050000-1552057200@www.nottinghamschoolstrust.org.uk
SUMMARY:New Headteacher Group - Session for Heads in their second or third year
DESCRIPTION:This session is for Heads’ in their second or third year and will have a headspace / wellbeing focus\, with individuals bringing issues/discussions to the table. \nTo confirm your attendance please email Kate Clifford. \n  \n
URL:http://www.nottinghamschoolstrust.org.uk/event/new-headteacher-group-session-for-heads-in-their-second-or-third-year/
LOCATION:Southwold Primary School\, Kennington Road\, Radford\, Nottingham\, NG8 1QD
END:VEVENT
END:VCALENDAR