BEGIN:VCALENDAR
VERSION:2.0
PRODID:-//Nottingham Schools Trust - ECPv4.6.26//NONSGML v1.0//EN
CALSCALE:GREGORIAN
METHOD:PUBLISH
X-WR-CALNAME:Nottingham Schools Trust
X-ORIGINAL-URL:http://www.nottinghamschoolstrust.org.uk
X-WR-CALDESC:Events for Nottingham Schools Trust
BEGIN:VEVENT
DTSTART;TZID=Europe/London:20201116T134500
DTEND;TZID=Europe/London:20201116T154500
DTSTAMP:20260422T084546
CREATED:20201111T123016Z
LAST-MODIFIED:20201111T135227Z
UID:5482-1605534300-1605541500@www.nottinghamschoolstrust.org.uk
SUMMARY:New Headteachers Induction Group Meeting
DESCRIPTION:Meeting taking place online at 1.45pm. \n
URL:http://www.nottinghamschoolstrust.org.uk/event/new-headteachers-induction-group-meeting/
END:VEVENT
END:VCALENDAR