BEGIN:VCALENDAR
VERSION:2.0
PRODID:-//Nottingham Schools Trust - ECPv4.6.26//NONSGML v1.0//EN
CALSCALE:GREGORIAN
METHOD:PUBLISH
X-WR-CALNAME:Nottingham Schools Trust
X-ORIGINAL-URL:http://www.nottinghamschoolstrust.org.uk
X-WR-CALDESC:Events for Nottingham Schools Trust
BEGIN:VEVENT
DTSTART;TZID=Europe/London:20210519T133000
DTEND;TZID=Europe/London:20210519T150000
DTSTAMP:20260420T060939
CREATED:20210504T090857Z
LAST-MODIFIED:20210504T090857Z
UID:6453-1621431000-1621436400@www.nottinghamschoolstrust.org.uk
SUMMARY:NQT CPD Event
DESCRIPTION:For further details or to book a place visit our Eventbrite page: https://www.eventbrite.com/o/nottingham-schools-trust-19990165449 \n
URL:http://www.nottinghamschoolstrust.org.uk/event/nqt-cpd-event/
END:VEVENT
END:VCALENDAR