BEGIN:VCALENDAR
VERSION:2.0
PRODID:-//Nottingham Schools Trust - ECPv4.6.26//NONSGML v1.0//EN
CALSCALE:GREGORIAN
METHOD:PUBLISH
X-WR-CALNAME:Nottingham Schools Trust
X-ORIGINAL-URL:http://www.nottinghamschoolstrust.org.uk
X-WR-CALDESC:Events for Nottingham Schools Trust
BEGIN:VEVENT
DTSTART;TZID=Europe/London:20200305T153000
DTEND;TZID=Europe/London:20200305T170000
DTSTAMP:20260425T033403
CREATED:20190827T133632Z
LAST-MODIFIED:20190827T133924Z
UID:3350-1583422200-1583427600@www.nottinghamschoolstrust.org.uk
SUMMARY:NQT Network Meeting
DESCRIPTION:The venue for this meeting is yet to be confirmed. \n
URL:http://www.nottinghamschoolstrust.org.uk/event/nqt-network-meeting-3/
END:VEVENT
END:VCALENDAR