BEGIN:VCALENDAR
VERSION:2.0
PRODID:-//Nottingham Schools Trust - ECPv4.6.26//NONSGML v1.0//EN
CALSCALE:GREGORIAN
METHOD:PUBLISH
X-WR-CALNAME:Nottingham Schools Trust
X-ORIGINAL-URL:http://www.nottinghamschoolstrust.org.uk
X-WR-CALDESC:Events for Nottingham Schools Trust
BEGIN:VEVENT
DTSTART;TZID=Europe/London:20260609T093000
DTEND;TZID=Europe/London:20260609T113000
DTSTAMP:20260422T105200
CREATED:20250701T134606Z
LAST-MODIFIED:20250701T134606Z
UID:10893-1780997400-1781004600@www.nottinghamschoolstrust.org.uk
SUMMARY:NST Finance\, Audit and Risk Committee Meeting
DESCRIPTION:
URL:http://www.nottinghamschoolstrust.org.uk/event/nst-finance-audit-and-risk-committee-meeting-13/
END:VEVENT
END:VCALENDAR