BEGIN:VCALENDAR
VERSION:2.0
PRODID:-//Nottingham Schools Trust - ECPv4.6.26//NONSGML v1.0//EN
CALSCALE:GREGORIAN
METHOD:PUBLISH
X-WR-CALNAME:Nottingham Schools Trust
X-ORIGINAL-URL:http://www.nottinghamschoolstrust.org.uk
X-WR-CALDESC:Events for Nottingham Schools Trust
BEGIN:VEVENT
DTSTART;TZID=Europe/London:20250225T093000
DTEND;TZID=Europe/London:20250225T113000
DTSTAMP:20260420T061206
CREATED:20240819T122731Z
LAST-MODIFIED:20240819T122731Z
UID:10257-1740475800-1740483000@www.nottinghamschoolstrust.org.uk
SUMMARY:NST Finance\, Audit and Risk Committee Meeting
DESCRIPTION:
URL:http://www.nottinghamschoolstrust.org.uk/event/nst-finance-audit-and-risk-committee-meeting-9/
LOCATION:Nottingham Nursery School & Training Centre\, Denman Street West\, Radford\, Nottingham\, NG7 3AB
END:VEVENT
END:VCALENDAR