BEGIN:VCALENDAR
VERSION:2.0
PRODID:-//Nottingham Schools Trust - ECPv4.6.26//NONSGML v1.0//EN
CALSCALE:GREGORIAN
METHOD:PUBLISH
X-WR-CALNAME:Nottingham Schools Trust
X-ORIGINAL-URL:http://www.nottinghamschoolstrust.org.uk
X-WR-CALDESC:Events for Nottingham Schools Trust
BEGIN:VEVENT
DTSTART;TZID=Europe/London:20210719T093000
DTEND;TZID=Europe/London:20210719T113000
DTSTAMP:20260420T043014
CREATED:20200212T095916Z
LAST-MODIFIED:20201201T113424Z
UID:3983-1626687000-1626694200@www.nottinghamschoolstrust.org.uk
SUMMARY:NST Full Directors Meeting
DESCRIPTION:
URL:http://www.nottinghamschoolstrust.org.uk/event/nst-full-directors-meeting-5/
LOCATION:NST Office
END:VEVENT
END:VCALENDAR