BEGIN:VCALENDAR
VERSION:2.0
PRODID:-//Nottingham Schools Trust - ECPv4.6.26//NONSGML v1.0//EN
CALSCALE:GREGORIAN
METHOD:PUBLISH
X-WR-CALNAME:Nottingham Schools Trust
X-ORIGINAL-URL:http://www.nottinghamschoolstrust.org.uk
X-WR-CALDESC:Events for Nottingham Schools Trust
BEGIN:VEVENT
DTSTART;TZID=Europe/London:20220325T093000
DTEND;TZID=Europe/London:20220325T113000
DTSTAMP:20260424T221513
CREATED:20201201T113600Z
LAST-MODIFIED:20201201T113600Z
UID:5639-1648200600-1648207800@www.nottinghamschoolstrust.org.uk
SUMMARY:NST Full Directors Meeting
DESCRIPTION:
URL:http://www.nottinghamschoolstrust.org.uk/event/nst-full-directors-meeting-7/
LOCATION:NST Office
END:VEVENT
END:VCALENDAR