BEGIN:VCALENDAR
VERSION:2.0
PRODID:-//Nottingham Schools Trust - ECPv4.6.26//NONSGML v1.0//EN
CALSCALE:GREGORIAN
METHOD:PUBLISH
X-WR-CALNAME:Nottingham Schools Trust
X-ORIGINAL-URL:http://www.nottinghamschoolstrust.org.uk
X-WR-CALDESC:Events for Nottingham Schools Trust
BEGIN:VEVENT
DTSTART;TZID=Europe/London:20190425T130000
DTEND;TZID=Europe/London:20190425T160000
DTSTAMP:20260420T071754
CREATED:20181019T105216Z
LAST-MODIFIED:20190326T134819Z
UID:1773-1556197200-1556208000@www.nottinghamschoolstrust.org.uk
SUMMARY:NST Lower KS2 Moderation Workshop
DESCRIPTION:This event is free for NST schools.  To book your place please visit the Eventbrite booking page here: \nhttps://www.eventbrite.co.uk/e/lower-ks2-moderation-workshop-for-y4-teachers-in-nottingham-city-schools-tickets-52148860646 \n  \n
URL:http://www.nottinghamschoolstrust.org.uk/event/nst-lower-ks2-moderation-workshop/
LOCATION:DoubleTree Hilton – Nottingham Gateway\, Nuthall Road\, Nottingham\, NG8 6AZ
END:VEVENT
END:VCALENDAR