BEGIN:VCALENDAR
VERSION:2.0
PRODID:-//Nottingham Schools Trust - ECPv4.6.26//NONSGML v1.0//EN
CALSCALE:GREGORIAN
METHOD:PUBLISH
X-WR-CALNAME:Nottingham Schools Trust
X-ORIGINAL-URL:http://www.nottinghamschoolstrust.org.uk
X-WR-CALDESC:Events for Nottingham Schools Trust
BEGIN:VEVENT
DTSTART;TZID=Europe/London:20200205T100000
DTEND;TZID=Europe/London:20200205T113000
DTSTAMP:20260425T034310
CREATED:20190211T133104Z
LAST-MODIFIED:20200203T141543Z
UID:2351-1580896800-1580902200@www.nottinghamschoolstrust.org.uk
SUMMARY:NST Member's Meeting
DESCRIPTION:This will take place immediately following the Local Authority Headteacher Briefing\, and will start at approximately 10.00am.  Venue details to be confirmed. \n
URL:http://www.nottinghamschoolstrust.org.uk/event/nst-members-meeting-6/
END:VEVENT
END:VCALENDAR