BEGIN:VCALENDAR
VERSION:2.0
PRODID:-//Nottingham Schools Trust - ECPv4.6.26//NONSGML v1.0//EN
CALSCALE:GREGORIAN
METHOD:PUBLISH
X-WR-CALNAME:Nottingham Schools Trust
X-ORIGINAL-URL:http://www.nottinghamschoolstrust.org.uk
X-WR-CALDESC:Events for Nottingham Schools Trust
BEGIN:VEVENT
DTSTART;TZID=Europe/London:20200611T100000
DTEND;TZID=Europe/London:20200611T120000
DTSTAMP:20260424T203917
CREATED:20190827T141459Z
LAST-MODIFIED:20190827T141459Z
UID:3393-1591869600-1591876800@www.nottinghamschoolstrust.org.uk
SUMMARY:NST Members Meeting
DESCRIPTION:This meeting will take place immediately following the Local Authority Headteacher Briefing. \nVenue to be confirmed. \n
URL:http://www.nottinghamschoolstrust.org.uk/event/nst-members-meeting-8/
END:VEVENT
END:VCALENDAR