BEGIN:VCALENDAR
VERSION:2.0
PRODID:-//Nottingham Schools Trust - ECPv4.6.26//NONSGML v1.0//EN
CALSCALE:GREGORIAN
METHOD:PUBLISH
X-WR-CALNAME:Nottingham Schools Trust
X-ORIGINAL-URL:http://www.nottinghamschoolstrust.org.uk
X-WR-CALDESC:Events for Nottingham Schools Trust
BEGIN:VEVENT
DTSTART;TZID=Europe/London:20191003T083000
DTEND;TZID=Europe/London:20191003T120000
DTSTAMP:20260424T010050
CREATED:20190503T100515Z
LAST-MODIFIED:20190902T135832Z
UID:2570-1570091400-1570104000@www.nottinghamschoolstrust.org.uk
SUMMARY:Behaviour Management Training Event for NQTs/RQTs
DESCRIPTION:Jason Bangbala will be delivering a session on behaviour.  Although this session is aimed at NQTs\, RQTs are also welcome to attend.  Please see the attached flyer for details and booking information: \nBehaviour Management Training with Jason Bangbala \n  \n
URL:http://www.nottinghamschoolstrust.org.uk/event/nst-nqt-and-rqt-behaviour-event/
END:VEVENT
END:VCALENDAR