BEGIN:VCALENDAR
VERSION:2.0
PRODID:-//Nottingham Schools Trust - ECPv4.6.26//NONSGML v1.0//EN
CALSCALE:GREGORIAN
METHOD:PUBLISH
X-WR-CALNAME:Nottingham Schools Trust
X-ORIGINAL-URL:http://www.nottinghamschoolstrust.org.uk
X-WR-CALDESC:Events for Nottingham Schools Trust
BEGIN:VEVENT
DTSTART;TZID=Europe/London:20210713T093000
DTEND;TZID=Europe/London:20210713T113000
DTSTAMP:20260420T030017
CREATED:20200212T100635Z
LAST-MODIFIED:20200212T100635Z
UID:3995-1626168600-1626175800@www.nottinghamschoolstrust.org.uk
SUMMARY:NST Performance and Standards Committee Meeting
DESCRIPTION:
URL:http://www.nottinghamschoolstrust.org.uk/event/nst-performance-and-standards-committee-meeting-4/
LOCATION:NST Office
END:VEVENT
END:VCALENDAR