BEGIN:VCALENDAR
VERSION:2.0
PRODID:-//Nottingham Schools Trust - ECPv4.6.26//NONSGML v1.0//EN
CALSCALE:GREGORIAN
METHOD:PUBLISH
X-WR-CALNAME:Nottingham Schools Trust
X-ORIGINAL-URL:http://www.nottinghamschoolstrust.org.uk
X-WR-CALDESC:Events for Nottingham Schools Trust
BEGIN:VEVENT
DTSTART;TZID=Europe/London:20220315T093000
DTEND;TZID=Europe/London:20220315T113000
DTSTAMP:20260424T122510
CREATED:20201201T114516Z
LAST-MODIFIED:20201201T114516Z
UID:5663-1647336600-1647343800@www.nottinghamschoolstrust.org.uk
SUMMARY:NST Performance and Standards Committee Meeting
DESCRIPTION:
URL:http://www.nottinghamschoolstrust.org.uk/event/nst-performance-and-standards-committee-meeting-7/
LOCATION:NST Office
END:VEVENT
END:VCALENDAR