BEGIN:VCALENDAR
VERSION:2.0
PRODID:-//Nottingham Schools Trust - ECPv4.6.26//NONSGML v1.0//EN
CALSCALE:GREGORIAN
METHOD:PUBLISH
X-WR-CALNAME:Nottingham Schools Trust
X-ORIGINAL-URL:http://www.nottinghamschoolstrust.org.uk
X-WR-CALDESC:Events for Nottingham Schools Trust
BEGIN:VEVENT
DTSTART;TZID=Europe/London:20200713T093000
DTEND;TZID=Europe/London:20200713T133000
DTSTAMP:20260421T182448
CREATED:20200203T142819Z
LAST-MODIFIED:20200203T142819Z
UID:3949-1594632600-1594647000@www.nottinghamschoolstrust.org.uk
SUMMARY:NST Performance\, Audit and Risk Committee
DESCRIPTION:
URL:http://www.nottinghamschoolstrust.org.uk/event/nst-performance-audit-and-risk-committee/
LOCATION:NST Office
END:VEVENT
END:VCALENDAR