BEGIN:VCALENDAR
VERSION:2.0
PRODID:-//Nottingham Schools Trust - ECPv4.6.26//NONSGML v1.0//EN
CALSCALE:GREGORIAN
METHOD:PUBLISH
X-WR-CALNAME:Nottingham Schools Trust
X-ORIGINAL-URL:http://www.nottinghamschoolstrust.org.uk
X-WR-CALDESC:Events for Nottingham Schools Trust
BEGIN:VEVENT
DTSTART;TZID=Europe/London:20190917T093000
DTEND;TZID=Europe/London:20190917T160000
DTSTAMP:20260423T065119
CREATED:20190402T102446Z
LAST-MODIFIED:20190911T132348Z
UID:2503-1568712600-1568736000@www.nottinghamschoolstrust.org.uk
SUMMARY:NST 'Train the Trainer' session for DSLs
DESCRIPTION:This session will be led by Jo Lawson and Lou Rhodes. \nTo book a place please email emily.humphreys@nottinghamschoolstrust.org.uk \n
URL:http://www.nottinghamschoolstrust.org.uk/event/nst-train-the-trainer-session-for-dsls/
LOCATION:Mellers Primary School
END:VEVENT
END:VCALENDAR