BEGIN:VCALENDAR
VERSION:2.0
PRODID:-//Nottingham Schools Trust - ECPv4.6.26//NONSGML v1.0//EN
CALSCALE:GREGORIAN
METHOD:PUBLISH
X-WR-CALNAME:Nottingham Schools Trust
X-ORIGINAL-URL:http://www.nottinghamschoolstrust.org.uk
X-WR-CALDESC:Events for Nottingham Schools Trust
BEGIN:VEVENT
DTSTART;TZID=Europe/London:20200520T130000
DTEND;TZID=Europe/London:20200520T153000
DTSTAMP:20260424T220236
CREATED:20190708T134156Z
LAST-MODIFIED:20190708T134156Z
UID:2854-1589979600-1589988600@www.nottinghamschoolstrust.org.uk
SUMMARY:Number Fact Fluency Project - Session 3
DESCRIPTION:This session will take place in room LB41\, Loxley House. \n
URL:http://www.nottinghamschoolstrust.org.uk/event/number-fact-fluency-project-session-3/
LOCATION:Loxley House
END:VEVENT
END:VCALENDAR