BEGIN:VCALENDAR
VERSION:2.0
PRODID:-//Nottingham Schools Trust - ECPv4.6.26//NONSGML v1.0//EN
CALSCALE:GREGORIAN
METHOD:PUBLISH
X-WR-CALNAME:Nottingham Schools Trust
X-ORIGINAL-URL:http://www.nottinghamschoolstrust.org.uk
X-WR-CALDESC:Events for Nottingham Schools Trust
BEGIN:VEVENT
DTSTART;TZID=Europe/London:20190603T140000
DTEND;TZID=Europe/London:20190603T160000
DTSTAMP:20260422T104913
CREATED:20181121T150226Z
LAST-MODIFIED:20190430T143909Z
UID:1940-1559570400-1559577600@www.nottinghamschoolstrust.org.uk
SUMMARY:PE Network Meeting
DESCRIPTION:This meeting will facilitated by Pete Bevington and Nick Robb. \nFor sat-nav users\, please use the postcode NG2 2HE. \n
URL:http://www.nottinghamschoolstrust.org.uk/event/pe-network-meeting/
LOCATION:Portland Centre\, Muskham Street\, Nottingham\, Nottinghamshire\, NG2 2HB
END:VEVENT
END:VCALENDAR