BEGIN:VCALENDAR
VERSION:2.0
PRODID:-//Nottingham Schools Trust - ECPv4.6.26//NONSGML v1.0//EN
CALSCALE:GREGORIAN
METHOD:PUBLISH
X-WR-CALNAME:Nottingham Schools Trust
X-ORIGINAL-URL:http://www.nottinghamschoolstrust.org.uk
X-WR-CALDESC:Events for Nottingham Schools Trust
BEGIN:VEVENT
DTSTART;TZID=Europe/London:20200914T133000
DTEND;TZID=Europe/London:20200914T151500
DTSTAMP:20260421T091627
CREATED:20200902T080255Z
LAST-MODIFIED:20200902T080255Z
UID:4904-1600090200-1600096500@www.nottinghamschoolstrust.org.uk
SUMMARY:PE\, School Sport and Physical Activity Network Meeting
DESCRIPTION:For further details visit our Eventbrite page: https://www.eventbrite.com/e/pe-school-sport-physical-activity-network-meeting-tickets-112629104684 \n
URL:http://www.nottinghamschoolstrust.org.uk/event/pe-school-sport-and-physical-activity-network-meeting/
END:VEVENT
END:VCALENDAR