BEGIN:VCALENDAR
VERSION:2.0
PRODID:-//Nottingham Schools Trust - ECPv4.6.26//NONSGML v1.0//EN
CALSCALE:GREGORIAN
METHOD:PUBLISH
X-WR-CALNAME:Nottingham Schools Trust
X-ORIGINAL-URL:http://www.nottinghamschoolstrust.org.uk
X-WR-CALDESC:Events for Nottingham Schools Trust
BEGIN:VEVENT
DTSTART;TZID=Europe/London:20210712T160000
DTEND;TZID=Europe/London:20210712T170000
DTSTAMP:20260420T044331
CREATED:20210504T091129Z
LAST-MODIFIED:20210504T091129Z
UID:6459-1626105600-1626109200@www.nottinghamschoolstrust.org.uk
SUMMARY:Performing Arts Network Meeting
DESCRIPTION:For further details or to book a place visit our Eventbrite page: https://www.eventbrite.com/o/nottingham-schools-trust-19990165449 \n
URL:http://www.nottinghamschoolstrust.org.uk/event/performing-arts-network-meeting-2/
END:VEVENT
END:VCALENDAR