BEGIN:VCALENDAR
VERSION:2.0
PRODID:-//Nottingham Schools Trust - ECPv4.6.26//NONSGML v1.0//EN
CALSCALE:GREGORIAN
METHOD:PUBLISH
X-WR-CALNAME:Nottingham Schools Trust
X-ORIGINAL-URL:http://www.nottinghamschoolstrust.org.uk
X-WR-CALDESC:Events for Nottingham Schools Trust
BEGIN:VEVENT
DTSTART;TZID=Europe/London:20210315T160000
DTEND;TZID=Europe/London:20210315T173000
DTSTAMP:20260423T012622
CREATED:20210309T112333Z
LAST-MODIFIED:20210309T112333Z
UID:6260-1615824000-1615829400@www.nottinghamschoolstrust.org.uk
SUMMARY:Performing Arts Network Meeting
DESCRIPTION:Visit our Eventbrite page for further details: https://www.eventbrite.com/o/nottingham-schools-trust-19990165449 \n  \n
URL:http://www.nottinghamschoolstrust.org.uk/event/performing-arts-network-meeting/
END:VEVENT
END:VCALENDAR