BEGIN:VCALENDAR
VERSION:2.0
PRODID:-//Nottingham Schools Trust - ECPv4.6.26//NONSGML v1.0//EN
CALSCALE:GREGORIAN
METHOD:PUBLISH
X-WR-CALNAME:Nottingham Schools Trust
X-ORIGINAL-URL:http://www.nottinghamschoolstrust.org.uk
X-WR-CALDESC:Events for Nottingham Schools Trust
BEGIN:VEVENT
DTSTART;TZID=Europe/London:20201126T153000
DTEND;TZID=Europe/London:20201126T170000
DTSTAMP:20260420T064645
CREATED:20200902T081914Z
LAST-MODIFIED:20201022T102452Z
UID:4930-1606404600-1606410000@www.nottinghamschoolstrust.org.uk
SUMMARY:Phonics Network Meeting
DESCRIPTION:For further details/to book\, follow this link: https://www.eventbrite.com/e/phonics-network-meeting-tickets-124100637347 \n
URL:http://www.nottinghamschoolstrust.org.uk/event/phonics-network-2/
END:VEVENT
END:VCALENDAR